BEGIN:VCALENDAR
VERSION:2.0
PRODID:-//Heimatverein Burghausen e.V. - ECPv6.15.17//NONSGML v1.0//EN
CALSCALE:GREGORIAN
METHOD:PUBLISH
X-WR-CALNAME:Heimatverein Burghausen e.V.
X-ORIGINAL-URL:https://burghausen-bienitz.de
X-WR-CALDESC:Veranstaltungen für Heimatverein Burghausen e.V.
REFRESH-INTERVAL;VALUE=DURATION:PT1H
X-Robots-Tag:noindex
X-PUBLISHED-TTL:PT1H
BEGIN:VTIMEZONE
TZID:Europe/Berlin
BEGIN:DAYLIGHT
TZOFFSETFROM:+0100
TZOFFSETTO:+0200
TZNAME:CEST
DTSTART:20250330T010000
END:DAYLIGHT
BEGIN:STANDARD
TZOFFSETFROM:+0200
TZOFFSETTO:+0100
TZNAME:CET
DTSTART:20251026T010000
END:STANDARD
BEGIN:DAYLIGHT
TZOFFSETFROM:+0100
TZOFFSETTO:+0200
TZNAME:CEST
DTSTART:20260329T010000
END:DAYLIGHT
BEGIN:STANDARD
TZOFFSETFROM:+0200
TZOFFSETTO:+0100
TZNAME:CET
DTSTART:20261025T010000
END:STANDARD
BEGIN:DAYLIGHT
TZOFFSETFROM:+0100
TZOFFSETTO:+0200
TZNAME:CEST
DTSTART:20270328T010000
END:DAYLIGHT
BEGIN:STANDARD
TZOFFSETFROM:+0200
TZOFFSETTO:+0100
TZNAME:CET
DTSTART:20271031T010000
END:STANDARD
END:VTIMEZONE
BEGIN:VEVENT
DTSTART;TZID=Europe/Berlin:20260412T140000
DTEND;TZID=Europe/Berlin:20260412T160000
DTSTAMP:20260424T153413
CREATED:20260308T051936Z
LAST-MODIFIED:20260308T052558Z
UID:986-1776002400-1776009600@burghausen-bienitz.de
SUMMARY:Saisonstart- Ausstellungeröffnung 2026 in der Alten Wache
DESCRIPTION:Nach der Winterpause öffnet die Ausstellung in der Alten Wache im April wieder ihre Türen. In den vergangenen Wochen wurde geputzt\, aufgeräumt und vorbereitet\, damit alles bereit ist für die neue Saison. \nZur Eröffnung laden wir alle Interessierten herzlich ein\, die Ausstellung wieder zu besuchen und einen Blick in die Geschichte unseres Ortes zu werfen. In der Alten Wache werden verschiedene Themen aus der Burghausener Vergangenheit gezeigt – mit Bildern\, Dokumenten und kleinen Geschichten aus dem Dorf. \nIn diesem Jahr gibt es noch einmal die Sonderausstellung mit Bildern des Malers Paul Sauer. Seine Arbeiten zeigen Szenen aus Alltag\, Landschaft und Leben der Region und laden dazu ein\, unsere Umgebung mit den Augen eines Künstlers zu betrachten. \nDie Ausstellungseröffnung ist eine schöne Gelegenheit\, miteinander ins Gespräch zu kommen\, Erinnerungen auszutauschen und gemeinsam in die neue Ausstellungssaison zu starten. \nWir freuen uns auf viele Besucherinnen und Besucher. 🌿
URL:https://burghausen-bienitz.de/veranstaltungen/eroeffnung-der-ausstellungen-2026-in-der-alten-wache/
LOCATION:Alte Wache\, Bienitzstr. 26\, 04178 Leipzig\, Bienitzstr. 26\, Leipzig\, 04178
END:VEVENT
END:VCALENDAR